BEGIN:VCALENDAR
VERSION:2.0
PRODID:icalendar-ruby
CALSCALE:GREGORIAN
METHOD:PUBLISH
BEGIN:VEVENT
DTSTAMP:20260423T111924Z
UID:91-177474@alsburybaptist.com
DTSTART:20260509T150000Z
DTEND:20260509T170000Z
CLASS:PUBLIC
CREATED:20260422T161756
DESCRIPTION:\n\n\nSaving you a seat at the table\n\n\n\n\nLadies\, we are d
 oing it again!\n\n\n\n\nWe’re getting out the good china plates out just
  for you. \n\n\nCome be part of a conversation about God\, life and friend
 s\, along with a lunch you didn’t have to plan\, prepare or clean up. Le
 t us know you’re coming on the HUB. \n\n\n\n\n\nSATURDAY\, MAY 9\n10A - 
 NOON\nCHILDCARE PROVIDED\n\nPlease RSVP\n\n
LAST-MODIFIED:20260422T161756
LOCATION:Alsbury Baptist Church
SUMMARY:Women's Luncheon
URL;VALUE=URI:https://www.alsburybaptist.com/events/womens-luncheon/2026-05
 -09
ATTACH;FILENAME=AWE-Women%27s-Ministry.png;FMTTYPE=image/png:https://dq5pwp
 g1q8ru0.cloudfront.net/2026/03/23/15/46/21/8fc10995-bd26-4ab0-aaef-d6dbb76
 8fb13/AWE-Women%2527s-Ministry.png
END:VEVENT
END:VCALENDAR
